BEGIN:VCALENDAR
VERSION:2.0
METHOD:PUBLISH
PRODID:-//ActiveDataExchange/NEXTGEN V1//EN
BEGIN:VEVENT
ORGANIZER:mailto:cdecuir@stetson.edu
DTSTART:20260425T213000Z
DTEND:20260426T000000Z
DTSTAMP:20260422T145651Z
LOCATION:Room 261A (Lee's Garage) 131 E Minnesota Ave DeLand FL 32723,Room 261B (Lee's Garage) 131 E Minnesota Ave DeLand FL 32723
SUMMARY:Phi Sigma Kappa - Formal Awards Banquet
DESCRIPTION:Formal award presentation for the brothers of Phi Sigma Kapp
 a Fraternity, Kappa Hexaton chapter. Dinner and ceremony.\nView the full event details here: https://calendar.stetson.edu/site/deland/event/phi-sigma-kappa---formal-awards-banquet/
CATEGORIES:Student Organizations
CONTACT:Cole,cdecuir@stetson.edu
CLASS:PUBLIC
UID:B11A9FD0-D896-40D3-A7E6-15B2E6F54850
BEGIN:VALARM
TRIGGER:-PT15M
ACTION:DISPLAY
DESCRIPTION:Phi Sigma Kappa - Formal Awards Banquet
END:VALARM
END:VEVENT
END:VCALENDAR
